BEGIN:VCALENDAR
VERSION:2.0
PRODID:-//OmniMagnetCalendar//EN
BEGIN:VEVENT
DTSTAMP:20190625T195740Z
STATUS:CONFIRMED
UID:hcmexico.clubs.harvard.edu241
DTSTART:20200909T210000Z
DTEND:20200909T223000Z
LOCATION:Virtual,
SUMMARY:Yucatán como Modelo en Seguridad, Salud y Educación
DESCRIPTION:Tuvimos la primer plática del Governor's Series con Mauricio Vila, Gobernador del Estado de Yucatán. En la plática analizamos las iniciativas que ha implementado Yucatán en estos tiempos complejos y su aplicación en otras partes del país.
BEGIN:VALARM
TRIGGER:-PT15M
ACTION:DISPLAY
END:VALARM
TRANSP:OPAQUE
END:VEVENT
END:VCALENDAR
